BEGIN:VCALENDAR
PRODID:-//Compnay Inc//Product Application//EN
VERSION:2.0
METHOD:PUBLISH
BEGIN:VEVENT
DTSTART:20260717T220000Z
DTEND:20260718T215900Z
DTSTAMP:20260424T155935Z
UID:77aec44c-3c51-4908-99bc-7ea902434688
CREATED:20260424T155935Z
DESCRIPTION:https://www.oldtimerweb.be/oldtimer-evenementen/leoclassics_20393.aspx
LAST-MODIFIED:20260424T155935Z
LOCATION:Koningin Astridplein\, 3970 Leopoldsburg\, BE
SEQUENCE:0
STATUS:CONFIRMED
SUMMARY:LeoClassics
TRANSP:OPAQUE
END:VEVENT
END:VCALENDAR
