BEGIN:VCALENDAR
PRODID:-//Compnay Inc//Product Application//EN
VERSION:2.0
METHOD:PUBLISH
BEGIN:VEVENT
DTSTART:20260619T220000Z
DTEND:20260620T215900Z
DTSTAMP:20260424T155540Z
UID:7e4929cd-010d-49a5-9563-27a1238f7e21
CREATED:20260424T155540Z
DESCRIPTION:https://www.oldtimerweb.be/oldtimer-evenementen/leoclassics_20392.aspx
LAST-MODIFIED:20260424T155540Z
LOCATION:Koningin Astridplein\, 3970 Leopoldsburg\, BE
SEQUENCE:0
STATUS:CONFIRMED
SUMMARY:LeoClassics
TRANSP:OPAQUE
END:VEVENT
END:VCALENDAR
