BEGIN:VCALENDAR
PRODID:-//Compnay Inc//Product Application//EN
VERSION:2.0
METHOD:PUBLISH
BEGIN:VEVENT
DTSTART:20260515T220000Z
DTEND:20260516T215900Z
DTSTAMP:20260425T022536Z
UID:ab67a67d-340e-4864-a09c-bd2a64e5d134
CREATED:20260425T022536Z
DESCRIPTION:https://www.oldtimerweb.be/oldtimer-evenementen/leoclassics_20391.aspx
LAST-MODIFIED:20260425T022536Z
LOCATION:Koningin Astridplein\, 3970 Leopoldsburg\, BE
SEQUENCE:0
STATUS:CONFIRMED
SUMMARY:LeoClassics
TRANSP:OPAQUE
END:VEVENT
END:VCALENDAR
