BEGIN:VCALENDAR
PRODID:-//Compnay Inc//Product Application//EN
VERSION:2.0
METHOD:PUBLISH
BEGIN:VEVENT
DTSTART:20260926T220000Z
DTEND:20260927T215900Z
DTSTAMP:20260424T215846Z
UID:85ed9d06-e6b3-43ef-9700-497d28cf4c5e
CREATED:20260424T215846Z
DESCRIPTION:https://www.oldtimerweb.be/oldtimer-evenementen/cars-bikes-coffee_20387.aspx
LAST-MODIFIED:20260424T215846Z
LOCATION:Rondplein\, 2400 Mol\, BE
SEQUENCE:0
STATUS:CONFIRMED
SUMMARY:Cars, Bikes & Coffee
TRANSP:OPAQUE
END:VEVENT
END:VCALENDAR
