BEGIN:VCALENDAR
PRODID:-//Compnay Inc//Product Application//EN
VERSION:2.0
METHOD:PUBLISH
BEGIN:VEVENT
DTSTART:20260829T220000Z
DTEND:20260830T215900Z
DTSTAMP:20260424T235458Z
UID:4ccecaa3-1200-468e-a87b-bc88c15da079
CREATED:20260424T235458Z
DESCRIPTION:https://www.oldtimerweb.be/oldtimer-evenementen/cars-bikes-coffee_20386.aspx
LAST-MODIFIED:20260424T235458Z
LOCATION:Rondplein\, 2400 Mol\, BE
SEQUENCE:0
STATUS:CONFIRMED
SUMMARY:Cars, Bikes & Coffee
TRANSP:OPAQUE
END:VEVENT
END:VCALENDAR
