BEGIN:VCALENDAR
PRODID:-//Compnay Inc//Product Application//EN
VERSION:2.0
METHOD:PUBLISH
BEGIN:VEVENT
DTSTART:20260725T220000Z
DTEND:20260726T215900Z
DTSTAMP:20260424T202340Z
UID:2c28ec30-6be0-4aa4-903c-d74ecb26efa9
CREATED:20260424T202340Z
DESCRIPTION:https://www.oldtimerweb.be/oldtimer-evenementen/cars-bikes-coffee_20385.aspx
LAST-MODIFIED:20260424T202340Z
LOCATION:Rondplein\, 2400 Mol\, BE
SEQUENCE:0
STATUS:CONFIRMED
SUMMARY:Cars, Bikes & Coffee
TRANSP:OPAQUE
END:VEVENT
END:VCALENDAR
