BEGIN:VCALENDAR
PRODID:-//Compnay Inc//Product Application//EN
VERSION:2.0
METHOD:PUBLISH
BEGIN:VEVENT
DTSTART:20260529T220000Z
DTEND:20260531T215900Z
DTSTAMP:20260424T012951Z
UID:4cb71b19-c737-42c3-8fd5-c5f052f9b22f
CREATED:20260424T012951Z
DESCRIPTION:https://www.oldtimerweb.be/oldtimer-evenementen/btm-oldtimer-tractorshow_20384.aspx
LAST-MODIFIED:20260424T012951Z
LOCATION:Jennestraat\, 3950 Bocholt\, BE
SEQUENCE:0
STATUS:CONFIRMED
SUMMARY:BTM Oldtimer Tractorshow
TRANSP:OPAQUE
END:VEVENT
END:VCALENDAR
