BEGIN:VCALENDAR
PRODID:-//Compnay Inc//Product Application//EN
VERSION:2.0
METHOD:PUBLISH
BEGIN:VEVENT
DTSTART:20260502T220000Z
DTEND:20260503T215900Z
DTSTAMP:20260424T011127Z
UID:2b7d6342-1bda-4410-82a9-093044e3be50
CREATED:20260424T011127Z
DESCRIPTION:https://www.oldtimerweb.be/oldtimer-evenementen/77ste-limac-miniatuurauto-beurs_20383.aspx
LAST-MODIFIED:20260424T011127Z
LOCATION:Rijksweg 357\, 3630 Maasmechelen\, BE
SEQUENCE:0
STATUS:CONFIRMED
SUMMARY:77ste Limac Miniatuurauto Beurs
TRANSP:OPAQUE
END:VEVENT
END:VCALENDAR
