BEGIN:VCALENDAR
PRODID:-//Compnay Inc//Product Application//EN
VERSION:2.0
METHOD:PUBLISH
BEGIN:VEVENT
DTSTART:20260423T220000Z
DTEND:20260424T215900Z
DTSTAMP:20260424T011727Z
UID:a8f37742-481c-49db-9122-0b176d2d2efc
CREATED:20260424T011727Z
DESCRIPTION:https://www.oldtimerweb.be/oldtimer-evenementen/leoclassics-babbelavond_20382.aspx
LAST-MODIFIED:20260424T011727Z
LOCATION:Antwerpsesteenweg 129\, 3970 Leopoldsburg\, BE
SEQUENCE:0
STATUS:CONFIRMED
SUMMARY:LeoClassics Babbelavond
TRANSP:OPAQUE
END:VEVENT
END:VCALENDAR
