BEGIN:VCALENDAR
PRODID:-//Compnay Inc//Product Application//EN
VERSION:2.0
METHOD:PUBLISH
BEGIN:VEVENT
DTSTART:20260627T220000Z
DTEND:20260628T215900Z
DTSTAMP:20260422T085510Z
UID:c1a9b4f8-3156-439b-bcba-98159a6964b1
CREATED:20260422T085510Z
DESCRIPTION:https://www.oldtimerweb.be/oldtimer-evenementen/schaffen-classic_20381.aspx
LAST-MODIFIED:20260422T085510Z
LOCATION:Sint Hubertusplein\, 3290 Schaffen\, BE
SEQUENCE:0
STATUS:CONFIRMED
SUMMARY:Schaffen Classic
TRANSP:OPAQUE
END:VEVENT
END:VCALENDAR
