BEGIN:VCALENDAR
PRODID:-//Compnay Inc//Product Application//EN
VERSION:2.0
METHOD:PUBLISH
BEGIN:VEVENT
DTSTART:20260627T220000Z
DTEND:20260628T215900Z
DTSTAMP:20260422T070049Z
UID:ccb96900-4d86-47af-984c-da88e5bb6630
CREATED:20260422T070049Z
DESCRIPTION:https://www.oldtimerweb.be/oldtimer-evenementen/2de-bergfeestenrit_20378.aspx
LAST-MODIFIED:20260422T070049Z
LOCATION:Vosselaarseweg 1\, 2275 Gierle\, BE
SEQUENCE:0
STATUS:CONFIRMED
SUMMARY:2de Bergfeestenrit
TRANSP:OPAQUE
END:VEVENT
END:VCALENDAR
