BEGIN:VCALENDAR
PRODID:-//Compnay Inc//Product Application//EN
VERSION:2.0
METHOD:PUBLISH
BEGIN:VEVENT
DTSTART:20260606T220000Z
DTEND:20260607T215900Z
DTSTAMP:20260421T100223Z
UID:52036550-4e31-42b7-8d6d-fc1cd2463771
CREATED:20260421T100223Z
DESCRIPTION:https://www.oldtimerweb.be/oldtimer-evenementen/cc-de-snelspies_20376.aspx
LAST-MODIFIED:20260421T100223Z
LOCATION:Steenhuffeldorp\, 1840 Steenhuffel\, BE
SEQUENCE:0
STATUS:CONFIRMED
SUMMARY:Cc de snelspies
TRANSP:OPAQUE
END:VEVENT
END:VCALENDAR
