BEGIN:VCALENDAR
PRODID:-//Compnay Inc//Product Application//EN
VERSION:2.0
METHOD:PUBLISH
BEGIN:VEVENT
DTSTART:20260815T220000Z
DTEND:20260816T215900Z
DTSTAMP:20260421T100124Z
UID:8bc59387-9a35-449a-b774-37d56237af06
CREATED:20260421T100124Z
DESCRIPTION:https://www.oldtimerweb.be/oldtimer-evenementen/show-n-shine_20375.aspx
LAST-MODIFIED:20260421T100124Z
LOCATION:Sterrenwacht 153\, 3550 Zolder\, BE
SEQUENCE:0
STATUS:CONFIRMED
SUMMARY:Show 'n Shine
TRANSP:OPAQUE
END:VEVENT
END:VCALENDAR
