BEGIN:VCALENDAR
PRODID:-//Compnay Inc//Product Application//EN
VERSION:2.0
METHOD:PUBLISH
BEGIN:VEVENT
DTSTART:20260703T220000Z
DTEND:20260704T215900Z
DTSTAMP:20260421T142701Z
UID:2e53cb01-1574-42b3-8ef0-c39f389e583a
CREATED:20260421T142701Z
DESCRIPTION:https://www.oldtimerweb.be/oldtimer-evenementen/rondrit-voor-het-goede-doel_20374.aspx
LAST-MODIFIED:20260421T142701Z
LOCATION:Gelderhorsten 146\, 3920 Lommel\, BE
SEQUENCE:0
STATUS:CONFIRMED
SUMMARY:Rondrit voor het Goede Doel
TRANSP:OPAQUE
END:VEVENT
END:VCALENDAR
