BEGIN:VCALENDAR
PRODID:-//Compnay Inc//Product Application//EN
VERSION:2.0
METHOD:PUBLISH
BEGIN:VEVENT
DTSTART:20260613T220000Z
DTEND:20260614T215900Z
DTSTAMP:20260421T142437Z
UID:12a6c20e-d1cd-41f6-a78a-d7af151bd56e
CREATED:20260421T142437Z
DESCRIPTION:https://www.oldtimerweb.be/oldtimer-evenementen/orcs-roadtrip_20373.aspx
LAST-MODIFIED:20260421T142437Z
LOCATION:Sterrenwacht 153\, 3550 Zolder\, BE
SEQUENCE:0
STATUS:CONFIRMED
SUMMARY:ORC's Roadtrip
TRANSP:OPAQUE
END:VEVENT
END:VCALENDAR
