BEGIN:VCALENDAR
PRODID:-//Compnay Inc//Product Application//EN
VERSION:2.0
METHOD:PUBLISH
BEGIN:VEVENT
DTSTART:20260516T220000Z
DTEND:20260517T215900Z
DTSTAMP:20260421T051430Z
UID:29fd0223-05ff-4139-8357-38e42ac718ef
CREATED:20260421T051430Z
DESCRIPTION:https://www.oldtimerweb.be/oldtimer-evenementen/oltimerrit-eke_20075.aspx
LAST-MODIFIED:20260421T051430Z
LOCATION:Stationsstraat 3\, 9810 Nazareth-De Pinte\, BE
SEQUENCE:0
STATUS:CONFIRMED
SUMMARY:Oltimerrit Eke
TRANSP:OPAQUE
END:VEVENT
END:VCALENDAR
