BEGIN:VCALENDAR
PRODID:-//Compnay Inc//Product Application//EN
VERSION:2.0
METHOD:PUBLISH
BEGIN:VEVENT
DTSTART:20260606T220000Z
DTEND:20260607T215900Z
DTSTAMP:20260420T174540Z
UID:9c55eae2-cdf6-4fb9-8f07-15ed8b1ed039
CREATED:20260420T174540Z
DESCRIPTION:https://www.oldtimerweb.be/oldtimer-evenementen/mk2nation_20074.aspx
LAST-MODIFIED:20260420T174540Z
LOCATION:Havendijk 14\, 4612 PJ Bergen op Zoom\, NL
SEQUENCE:0
STATUS:CONFIRMED
SUMMARY:Mk2Nation
TRANSP:OPAQUE
END:VEVENT
END:VCALENDAR
