BEGIN:VCALENDAR
PRODID:-//Compnay Inc//Product Application//EN
VERSION:2.0
METHOD:PUBLISH
BEGIN:VEVENT
DTSTART:20260529T220000Z
DTEND:20260530T215900Z
DTSTAMP:20260421T013209Z
UID:8b4c6072-3ea9-4f10-be5c-d8c6d8179d14
CREATED:20260421T013209Z
DESCRIPTION:https://www.oldtimerweb.be/oldtimer-evenementen/best-plumber-spring-ride_20038.aspx
LAST-MODIFIED:20260421T013209Z
LOCATION:Zolderstraat 51\, 8580 Avelgem\, BE
SEQUENCE:0
STATUS:CONFIRMED
SUMMARY:Best Plumber Spring Ride
TRANSP:OPAQUE
END:VEVENT
END:VCALENDAR
