BEGIN:VCALENDAR
PRODID:-//Compnay Inc//Product Application//EN
VERSION:2.0
METHOD:PUBLISH
BEGIN:VEVENT
DTSTART:20261016T220000Z
DTEND:20261017T215900Z
DTSTAMP:20260420T231458Z
UID:2fb1cf9b-3a62-4e57-8469-b9ce6b4be97a
CREATED:20260420T231458Z
DESCRIPTION:https://www.oldtimerweb.be/oldtimer-evenementen/herfstrit-autoclub-de-vise-platines_20034.aspx
LAST-MODIFIED:20260420T231458Z
LOCATION:Sint-jansplein 10\, 8880 Ledegem\, BE
SEQUENCE:0
STATUS:CONFIRMED
SUMMARY:Herfstrit autoclub De Vise Platines
TRANSP:OPAQUE
END:VEVENT
END:VCALENDAR
