BEGIN:VCALENDAR
PRODID:-//Compnay Inc//Product Application//EN
VERSION:2.0
METHOD:PUBLISH
BEGIN:VEVENT
DTSTART:20260808T220000Z
DTEND:20260809T215900Z
DTSTAMP:20260421T102217Z
UID:902e3e3a-df30-49a6-8dfb-29a777df901f
CREATED:20260421T102217Z
DESCRIPTION:https://www.oldtimerweb.be/oldtimer-evenementen/de-zwartrokers-van-toen_20033.aspx
LAST-MODIFIED:20260421T102217Z
LOCATION:9de Linieplein\, 8650 Merkem\, BE
SEQUENCE:0
STATUS:CONFIRMED
SUMMARY:De Zwartrokers Van Toen
TRANSP:OPAQUE
END:VEVENT
END:VCALENDAR
