BEGIN:VCALENDAR
PRODID:-//Compnay Inc//Product Application//EN
VERSION:2.0
METHOD:PUBLISH
BEGIN:VEVENT
DTSTART:20260926T220000Z
DTEND:20260927T215900Z
DTSTAMP:20260425T124831Z
UID:952cace3-08ba-489c-997f-63184a700a74
CREATED:20260425T124831Z
DESCRIPTION:https://www.oldtimerweb.be/oldtimer-evenementen/a-t-m-zx-markt_20031.aspx
LAST-MODIFIED:20260425T124831Z
LOCATION:Heidestraat 20\, 6443 VZ Brunssum\, NL
SEQUENCE:0
STATUS:CONFIRMED
SUMMARY:A t/m ZX Markt
TRANSP:OPAQUE
END:VEVENT
END:VCALENDAR
