BEGIN:VCALENDAR
PRODID:-//Compnay Inc//Product Application//EN
VERSION:2.0
METHOD:PUBLISH
BEGIN:VEVENT
DTSTART:20260502T220000Z
DTEND:20260503T215900Z
DTSTAMP:20260420T144622Z
UID:8f504199-e994-4196-927a-958a55617785
CREATED:20260420T144622Z
DESCRIPTION:https://www.oldtimerweb.be/oldtimer-evenementen/1ste-flanders-classic-ford-meeting_19948.aspx
LAST-MODIFIED:20260420T144622Z
LOCATION:Nijverheidslaan 7\, 8940 Geluwe\, BE
SEQUENCE:0
STATUS:CONFIRMED
SUMMARY:1ste Flanders Classic Ford Meeting
TRANSP:OPAQUE
END:VEVENT
END:VCALENDAR
