BEGIN:VCALENDAR
PRODID:-//Compnay Inc//Product Application//EN
VERSION:2.0
METHOD:PUBLISH
BEGIN:VEVENT
DTSTART:20260508T220000Z
DTEND:20260509T215900Z
DTSTAMP:20260420T144426Z
UID:f88217ff-0194-4f91-9926-a0cccb0b74fe
CREATED:20260420T144426Z
DESCRIPTION:https://www.oldtimerweb.be/oldtimer-evenementen/molenfest-nieuwenrode_19945.aspx
LAST-MODIFIED:20260420T144426Z
LOCATION:Molenstraat\, 1880 Nieuwenrode\, BE
SEQUENCE:0
STATUS:CONFIRMED
SUMMARY:Molenfest Nieuwenrode
TRANSP:OPAQUE
END:VEVENT
END:VCALENDAR
