BEGIN:VCALENDAR
PRODID:-//Compnay Inc//Product Application//EN
VERSION:2.0
METHOD:PUBLISH
BEGIN:VEVENT
DTSTART:20260529T220000Z
DTEND:20260530T215900Z
DTSTAMP:20260420T144504Z
UID:23fc14e1-9157-4785-b5c3-b711c95b9b9a
CREATED:20260420T144504Z
DESCRIPTION:https://www.oldtimerweb.be/oldtimer-evenementen/rondrit-rotary-club-mechelen-opsinjoor_19944.aspx
LAST-MODIFIED:20260420T144504Z
LOCATION:2800 Mechelen\, BE
SEQUENCE:0
STATUS:CONFIRMED
SUMMARY:Rondrit Rotary Club Mechelen Opsinjoor
TRANSP:OPAQUE
END:VEVENT
END:VCALENDAR
