BEGIN:VCALENDAR
PRODID:-//Compnay Inc//Product Application//EN
VERSION:2.0
METHOD:PUBLISH
BEGIN:VEVENT
DTSTART:20260618T220000Z
DTEND:20260621T215900Z
DTSTAMP:20260420T144811Z
UID:add39829-1c35-4c57-af67-ec9b5a820817
CREATED:20260420T144811Z
DESCRIPTION:https://www.oldtimerweb.be/oldtimer-evenementen/balade-des-chateaux-et-des-monuments_19939.aspx
LAST-MODIFIED:20260420T144811Z
LOCATION:Zwarte Nonnenstraat 8\, 8630 Veurne\, BE
SEQUENCE:0
STATUS:CONFIRMED
SUMMARY:Balade des Châteaux et des Monuments
TRANSP:OPAQUE
END:VEVENT
END:VCALENDAR
