BEGIN:VCALENDAR
PRODID:-//Compnay Inc//Product Application//EN
VERSION:2.0
METHOD:PUBLISH
BEGIN:VEVENT
DTSTART:20260729T220000Z
DTEND:20260730T215900Z
DTSTAMP:20260420T102521Z
UID:51747ccc-55ba-44d7-8229-7c914b3e8390
CREATED:20260420T102521Z
DESCRIPTION:https://www.oldtimerweb.be/oldtimer-evenementen/summermeeting-stof-vzw_19936.aspx
LAST-MODIFIED:20260420T102521Z
LOCATION:Speelhoflaan\, 3800 Sint-Truiden\, BE
SEQUENCE:0
STATUS:CONFIRMED
SUMMARY:Summermeeting STOF vzw
TRANSP:OPAQUE
END:VEVENT
END:VCALENDAR
