BEGIN:VCALENDAR
PRODID:-//Compnay Inc//Product Application//EN
VERSION:2.0
METHOD:PUBLISH
BEGIN:VEVENT
DTSTART:20260527T220000Z
DTEND:20260528T215900Z
DTSTAMP:20260420T144622Z
UID:5e192dda-0a73-4bc6-81fa-6e5f91540728
CREATED:20260420T144622Z
DESCRIPTION:https://www.oldtimerweb.be/oldtimer-evenementen/summermeeting-stof-vzw_19934.aspx
LAST-MODIFIED:20260420T144622Z
LOCATION:Speelhoflaan\, 3800 Sint-Truiden\, BE
SEQUENCE:0
STATUS:CONFIRMED
SUMMARY:Summermeeting STOF vzw
TRANSP:OPAQUE
END:VEVENT
END:VCALENDAR
