BEGIN:VCALENDAR
PRODID:-//Compnay Inc//Product Application//EN
VERSION:2.0
METHOD:PUBLISH
BEGIN:VEVENT
DTSTART:20260429T220000Z
DTEND:20260430T215900Z
DTSTAMP:20260422T105128Z
UID:9611ef98-e91f-4d19-9629-577387c8cf6b
CREATED:20260422T105128Z
DESCRIPTION:https://www.oldtimerweb.be/oldtimer-evenementen/summermeeting-stof-vzw_19932.aspx
LAST-MODIFIED:20260422T105128Z
LOCATION:Speelhoflaan\, 3800 Sint-Truiden\, BE
SEQUENCE:0
STATUS:CONFIRMED
SUMMARY:Summermeeting STOF vzw
TRANSP:OPAQUE
END:VEVENT
END:VCALENDAR
