BEGIN:VCALENDAR
PRODID:-//Compnay Inc//Product Application//EN
VERSION:2.0
METHOD:PUBLISH
BEGIN:VEVENT
DTSTART:20260801T220000Z
DTEND:20260802T215900Z
DTSTAMP:20260422T105147Z
UID:5e07d68c-be39-4074-8df1-a4aebb6ecdfc
CREATED:20260422T105147Z
DESCRIPTION:https://www.oldtimerweb.be/oldtimer-evenementen/cars-n-coffee-aan-het-water_19931.aspx
LAST-MODIFIED:20260422T105147Z
LOCATION:Huttekensstraat\, 1880 Kapelle-op-den-Bos\, BE
SEQUENCE:0
STATUS:CONFIRMED
SUMMARY:Cars 'n Coffee aan het water
TRANSP:OPAQUE
END:VEVENT
END:VCALENDAR
