BEGIN:VCALENDAR
PRODID:-//Compnay Inc//Product Application//EN
VERSION:2.0
METHOD:PUBLISH
BEGIN:VEVENT
DTSTART:20260926T220000Z
DTEND:20260927T215900Z
DTSTAMP:20260420T144905Z
UID:8bc36cd1-4bab-4936-bcbd-16dd895068bc
CREATED:20260420T144905Z
DESCRIPTION:https://www.oldtimerweb.be/oldtimer-evenementen/rondoenk-classic-tour_19930.aspx
LAST-MODIFIED:20260420T144905Z
LOCATION:Tisseltstraat 18\, 1880 Kapelle-op-den-Bos\, BE
SEQUENCE:0
STATUS:CONFIRMED
SUMMARY:Rondoenk Classic Tour
TRANSP:OPAQUE
END:VEVENT
END:VCALENDAR
