BEGIN:VCALENDAR
PRODID:-//Compnay Inc//Product Application//EN
VERSION:2.0
METHOD:PUBLISH
BEGIN:VEVENT
DTSTART:20260703T220000Z
DTEND:20260705T215900Z
DTSTAMP:20260420T144530Z
UID:efa67445-e363-4b67-a02a-895ec85b43d5
CREATED:20260420T144530Z
DESCRIPTION:https://www.oldtimerweb.be/oldtimer-evenementen/oldtimer-meeting-moorsele_19929.aspx
LAST-MODIFIED:20260420T144530Z
LOCATION:Ledegemsestraat 140\, 8560 Wevelgem\, BE
SEQUENCE:0
STATUS:CONFIRMED
SUMMARY:Oldtimer meeting Moorsele
TRANSP:OPAQUE
END:VEVENT
END:VCALENDAR
