BEGIN:VCALENDAR
PRODID:-//Compnay Inc//Product Application//EN
VERSION:2.0
METHOD:PUBLISH
BEGIN:VEVENT
DTSTART:20260620T220000Z
DTEND:20260621T215900Z
DTSTAMP:20260420T144530Z
UID:e898a9f0-8702-4225-a643-f23c5039efc0
CREATED:20260420T144530Z
DESCRIPTION:https://www.oldtimerweb.be/oldtimer-evenementen/gt-cars-events-3landen-tour_19928.aspx
LAST-MODIFIED:20260420T144530Z
LOCATION:Markt\, 3740 Bilzen\, BE
SEQUENCE:0
STATUS:CONFIRMED
SUMMARY:GT Cars Events 3Landen Tour
TRANSP:OPAQUE
END:VEVENT
END:VCALENDAR
