BEGIN:VCALENDAR
PRODID:-//Compnay Inc//Product Application//EN
VERSION:2.0
METHOD:PUBLISH
BEGIN:VEVENT
DTSTART:20260529T220000Z
DTEND:20260530T215900Z
DTSTAMP:20260420T144811Z
UID:767d9de5-b7b6-4029-a48c-362a17ec416b
CREATED:20260420T144811Z
DESCRIPTION:https://www.oldtimerweb.be/oldtimer-evenementen/grand-prix-jci-kortrijk_19919.aspx
LAST-MODIFIED:20260420T144811Z
LOCATION:8500 Kortrijk\, BE
SEQUENCE:0
STATUS:CONFIRMED
SUMMARY:Grand Prix JCI Kortrijk
TRANSP:OPAQUE
END:VEVENT
END:VCALENDAR
