BEGIN:VCALENDAR
PRODID:-//Compnay Inc//Product Application//EN
VERSION:2.0
METHOD:PUBLISH
BEGIN:VEVENT
DTSTART:20260502T220000Z
DTEND:20260503T215900Z
DTSTAMP:20260420T144905Z
UID:1d22ada9-16fc-4c2d-9d0d-3aba386206d4
CREATED:20260420T144905Z
DESCRIPTION:https://www.oldtimerweb.be/oldtimer-evenementen/oldtimertreffen-kappaert_19918.aspx
LAST-MODIFIED:20260420T144905Z
LOCATION:Sint-Jozefsstraat\, 8550 Zwevegem\, BE
SEQUENCE:0
STATUS:CONFIRMED
SUMMARY:Oldtimertreffen Kappaert
TRANSP:OPAQUE
END:VEVENT
END:VCALENDAR
