BEGIN:VCALENDAR
PRODID:-//Compnay Inc//Product Application//EN
VERSION:2.0
METHOD:PUBLISH
BEGIN:VEVENT
DTSTART:20260822T220000Z
DTEND:20260823T215900Z
DTSTAMP:20260420T142932Z
UID:411b18d9-f7f9-4a7c-86f5-6a33abe7e24a
CREATED:20260420T142932Z
DESCRIPTION:https://www.oldtimerweb.be/oldtimer-evenementen/cento-miglia_19916.aspx
LAST-MODIFIED:20260420T142932Z
LOCATION:3980 Tessenderlo-Ham\, BE
SEQUENCE:0
STATUS:CONFIRMED
SUMMARY:Cento Miglia
TRANSP:OPAQUE
END:VEVENT
END:VCALENDAR
