BEGIN:VCALENDAR
PRODID:-//Compnay Inc//Product Application//EN
VERSION:2.0
METHOD:PUBLISH
BEGIN:VEVENT
DTSTART:20260821T220000Z
DTEND:20260822T215900Z
DTSTAMP:20260421T081307Z
UID:55a24320-3031-4577-a2ce-15e2a988d95a
CREATED:20260421T081307Z
DESCRIPTION:https://www.oldtimerweb.be/oldtimer-evenementen/9e-porsche-classic-coast-tour_19906.aspx
LAST-MODIFIED:20260421T081307Z
LOCATION:Park la Potiniére\, 8420 De Haan\, BE
SEQUENCE:0
STATUS:CONFIRMED
SUMMARY:9e Porsche Classic Coast Tour
TRANSP:OPAQUE
END:VEVENT
END:VCALENDAR
