BEGIN:VCALENDAR
PRODID:-//Compnay Inc//Product Application//EN
VERSION:2.0
METHOD:PUBLISH
BEGIN:VEVENT
DTSTART:20260814T220000Z
DTEND:20260815T215900Z
DTSTAMP:20260420T102515Z
UID:d7df2d08-1378-4320-a26b-1cca9f7554b0
CREATED:20260420T102515Z
DESCRIPTION:https://www.oldtimerweb.be/oldtimer-evenementen/summermeeting_19901.aspx
LAST-MODIFIED:20260420T102515Z
LOCATION:Ordingen-Dorp 50\, 3800 Sint-Truiden\, BE
SEQUENCE:0
STATUS:CONFIRMED
SUMMARY:Summermeeting
TRANSP:OPAQUE
END:VEVENT
END:VCALENDAR
