BEGIN:VCALENDAR
PRODID:-//Compnay Inc//Product Application//EN
VERSION:2.0
METHOD:PUBLISH
BEGIN:VEVENT
DTSTART:20260916T220000Z
DTEND:20260917T215900Z
DTSTAMP:20260420T205739Z
UID:12540ff7-13f4-43b1-955e-93fad687361c
CREATED:20260420T205739Z
DESCRIPTION:https://www.oldtimerweb.be/oldtimer-evenementen/summermeeting_19900.aspx
LAST-MODIFIED:20260420T205739Z
LOCATION:Speelhoflaan\, 3800 Sint-Truiden\, BE
SEQUENCE:0
STATUS:CONFIRMED
SUMMARY:Summermeeting
TRANSP:OPAQUE
END:VEVENT
END:VCALENDAR
