BEGIN:VCALENDAR
PRODID:-//Compnay Inc//Product Application//EN
VERSION:2.0
METHOD:PUBLISH
BEGIN:VEVENT
DTSTART:20260521T220000Z
DTEND:20260524T215900Z
DTSTAMP:20260420T142633Z
UID:fd91e088-9b89-4b52-b773-1ea53945ff7b
CREATED:20260420T142633Z
DESCRIPTION:https://www.oldtimerweb.be/oldtimer-evenementen/passion4audi_19895.aspx
LAST-MODIFIED:20260420T142633Z
LOCATION:Sint Jansstraat 102\, 2490 Balen\, BE
SEQUENCE:0
STATUS:CONFIRMED
SUMMARY:Passion4audi
TRANSP:OPAQUE
END:VEVENT
END:VCALENDAR
