BEGIN:VCALENDAR
PRODID:-//Compnay Inc//Product Application//EN
VERSION:2.0
METHOD:PUBLISH
BEGIN:VEVENT
DTSTART:20260521T220000Z
DTEND:20260524T215900Z
DTSTAMP:20260420T142229Z
UID:a2c3ae73-8988-4e4e-b18d-55639255e45c
CREATED:20260420T142229Z
DESCRIPTION:https://www.oldtimerweb.be/oldtimer-evenementen/25ste-oldtimer-classic-weekend_19894.aspx
LAST-MODIFIED:20260420T142229Z
LOCATION:Kasteelhoekstraat 1\, 1820 Perk\, BE
SEQUENCE:0
STATUS:CONFIRMED
SUMMARY:25ste Oldtimer & Classic weekend
TRANSP:OPAQUE
END:VEVENT
END:VCALENDAR
