BEGIN:VCALENDAR
PRODID:-//Compnay Inc//Product Application//EN
VERSION:2.0
METHOD:PUBLISH
BEGIN:VEVENT
DTSTART:20260508T220000Z
DTEND:20260515T215900Z
DTSTAMP:20260420T144932Z
UID:756be718-9342-4dc3-b5bc-874551d8cf3f
CREATED:20260420T144932Z
DESCRIPTION:https://www.oldtimerweb.be/oldtimer-evenementen/oldtimerfriends-algarverally-ed-2_19893.aspx
LAST-MODIFIED:20260420T144932Z
LOCATION:N125 520 A\, 8005-41 Faro\, PT
SEQUENCE:0
STATUS:CONFIRMED
SUMMARY:Oldtimerfriends - Algarverally Ed. 2
TRANSP:OPAQUE
END:VEVENT
END:VCALENDAR
