BEGIN:VCALENDAR
PRODID:-//Compnay Inc//Product Application//EN
VERSION:2.0
METHOD:PUBLISH
BEGIN:VEVENT
DTSTART:20260430T220000Z
DTEND:20260507T215900Z
DTSTAMP:20260420T144932Z
UID:7a26f45a-9972-40fd-991f-99645ae4b41e
CREATED:20260420T144932Z
DESCRIPTION:https://www.oldtimerweb.be/oldtimer-evenementen/oldtimerfriends-algarverally-ed-1_19892.aspx
LAST-MODIFIED:20260420T144932Z
LOCATION:N125 520 A\, 8005-412 Faro\, PT
SEQUENCE:0
STATUS:CONFIRMED
SUMMARY:Oldtimerfriends - Algarverally Ed. 1
TRANSP:OPAQUE
END:VEVENT
END:VCALENDAR
