BEGIN:VCALENDAR
PRODID:-//Compnay Inc//Product Application//EN
VERSION:2.0
METHOD:PUBLISH
BEGIN:VEVENT
DTSTART:20260918T220000Z
DTEND:20260926T215900Z
DTSTAMP:20260420T231620Z
UID:db403934-d600-4db7-b634-ca24e9f5f23b
CREATED:20260420T231620Z
DESCRIPTION:https://www.oldtimerweb.be/oldtimer-evenementen/die-groe-fahrt-oldtimerfriends_19885.aspx
LAST-MODIFIED:20260420T231620Z
LOCATION:Galgeveld 62\, 2500 Lier\, LU
SEQUENCE:0
STATUS:CONFIRMED
SUMMARY:Die große Fahrt - Oldtimerfriends
TRANSP:OPAQUE
END:VEVENT
END:VCALENDAR
