BEGIN:VCALENDAR
PRODID:-//Compnay Inc//Product Application//EN
VERSION:2.0
METHOD:PUBLISH
BEGIN:VEVENT
DTSTART:20260919T220000Z
DTEND:20260920T215900Z
DTSTAMP:20260421T020833Z
UID:647a1702-f4d0-4e69-9676-eb6683d50785
CREATED:20260421T020833Z
DESCRIPTION:https://www.oldtimerweb.be/oldtimer-evenementen/bmw-meet-drive-lichtervelde-v100_19871.aspx
LAST-MODIFIED:20260421T020833Z
LOCATION:Tweelindenstraat\, 8810 Lichtervelde\, BE
SEQUENCE:0
STATUS:CONFIRMED
SUMMARY:BMW Meet & Drive Lichtervelde v10.0
TRANSP:OPAQUE
END:VEVENT
END:VCALENDAR
