BEGIN:VCALENDAR
PRODID:-//Compnay Inc//Product Application//EN
VERSION:2.0
METHOD:PUBLISH
BEGIN:VEVENT
DTSTART:20260425T220000Z
DTEND:20260426T215900Z
DTSTAMP:20260421T102426Z
UID:5e25d9af-7220-483f-82b6-60601e112798
CREATED:20260421T102426Z
DESCRIPTION:https://www.oldtimerweb.be/oldtimer-evenementen/zeswege-classic_19869.aspx
LAST-MODIFIED:20260421T102426Z
LOCATION:Zeswegestraat 55\, 8750 Zwevezele\, BE
SEQUENCE:0
STATUS:CONFIRMED
SUMMARY:Zeswege Classic
TRANSP:OPAQUE
END:VEVENT
END:VCALENDAR
