BEGIN:VCALENDAR
PRODID:-//Compnay Inc//Product Application//EN
VERSION:2.0
METHOD:PUBLISH
BEGIN:VEVENT
DTSTART:20260912T220000Z
DTEND:20260913T215900Z
DTSTAMP:20260420T214458Z
UID:5c3ad5b9-eaba-431b-9c66-7922c6f7c0eb
CREATED:20260420T214458Z
DESCRIPTION:https://www.oldtimerweb.be/oldtimer-evenementen/kempen-historic-najaarsrit_19860.aspx
LAST-MODIFIED:20260420T214458Z
LOCATION:Pater van Henxthovenstraat 50\, 2400 Mol\, BE
SEQUENCE:0
STATUS:CONFIRMED
SUMMARY:Kempen Historic Najaarsrit
TRANSP:OPAQUE
END:VEVENT
END:VCALENDAR
