BEGIN:VCALENDAR
PRODID:-//Compnay Inc//Product Application//EN
VERSION:2.0
METHOD:PUBLISH
BEGIN:VEVENT
DTSTART:20260530T220000Z
DTEND:20260531T215900Z
DTSTAMP:20260420T214601Z
UID:a2065707-cab0-4a37-8f89-208d381d11d5
CREATED:20260420T214601Z
DESCRIPTION:https://www.oldtimerweb.be/oldtimer-evenementen/the-new-kempen-historic_19859.aspx
LAST-MODIFIED:20260420T214601Z
LOCATION:Lindeplein\, 2400 Mol\, BE
SEQUENCE:0
STATUS:CONFIRMED
SUMMARY:The New Kempen Historic
TRANSP:OPAQUE
END:VEVENT
END:VCALENDAR
