BEGIN:VCALENDAR
PRODID:-//Compnay Inc//Product Application//EN
VERSION:2.0
METHOD:PUBLISH
BEGIN:VEVENT
DTSTART:20260814T220000Z
DTEND:20260816T215900Z
DTSTAMP:20260420T185046Z
UID:7c802d21-0ca0-44d8-852a-190a86809d2c
CREATED:20260420T185046Z
DESCRIPTION:https://www.oldtimerweb.be/oldtimer-evenementen/retro-classics-bazel-5_19847.aspx
LAST-MODIFIED:20260420T185046Z
LOCATION:Sint-Pietersdoorn 1\, 9150 Bazel\, BE
SEQUENCE:0
STATUS:CONFIRMED
SUMMARY:Retro Classics Bazel #5
TRANSP:OPAQUE
END:VEVENT
END:VCALENDAR
