BEGIN:VCALENDAR
PRODID:-//Compnay Inc//Product Application//EN
VERSION:2.0
METHOD:PUBLISH
BEGIN:VEVENT
DTSTART:20260619T220000Z
DTEND:20260620T215900Z
DTSTAMP:20260421T081643Z
UID:20462df3-7ea7-4c43-b376-f9405ef41b91
CREATED:20260421T081643Z
DESCRIPTION:https://www.oldtimerweb.be/oldtimer-evenementen/oldtimers-above-the-clouds-oatc_19841.aspx
LAST-MODIFIED:20260421T081643Z
LOCATION:Appelboomgaardstraat 6\, 3740 Bilzen\, BE
SEQUENCE:0
STATUS:CONFIRMED
SUMMARY:Oldtimers Above The Clouds O.A.T.C.
TRANSP:OPAQUE
END:VEVENT
END:VCALENDAR
