BEGIN:VCALENDAR
PRODID:-//Compnay Inc//Product Application//EN
VERSION:2.0
METHOD:PUBLISH
BEGIN:VEVENT
DTSTART:20260424T220000Z
DTEND:20260425T215900Z
DTSTAMP:20260421T063046Z
UID:c6076e08-ca91-49c1-8e21-1fb5cb28d836
CREATED:20260421T063046Z
DESCRIPTION:https://www.oldtimerweb.be/oldtimer-evenementen/motary_19837.aspx
LAST-MODIFIED:20260421T063046Z
LOCATION:Markt\, 2370 Arendonk\, BE
SEQUENCE:0
STATUS:CONFIRMED
SUMMARY:Motary
TRANSP:OPAQUE
END:VEVENT
END:VCALENDAR
